BEGIN:VCALENDAR
VERSION:2.0
PRODID:-//STEP Australia - ECPv6.15.20//NONSGML v1.0//EN
CALSCALE:GREGORIAN
METHOD:PUBLISH
X-WR-CALNAME:STEP Australia
X-ORIGINAL-URL:https://stepaustralia.com
X-WR-CALDESC:Events for STEP Australia
REFRESH-INTERVAL;VALUE=DURATION:PT1H
X-Robots-Tag:noindex
X-PUBLISHED-TTL:PT1H
BEGIN:VTIMEZONE
TZID:UTC
BEGIN:STANDARD
TZOFFSETFROM:+0000
TZOFFSETTO:+0000
TZNAME:UTC
DTSTART:20250101T000000
END:STANDARD
END:VTIMEZONE
BEGIN:VEVENT
DTSTART;TZID=UTC:20260415T173000
DTEND;TZID=UTC:20260415T183000
DTSTAMP:20260424T153235
CREATED:20260318T091652Z
LAST-MODIFIED:20260318T091652Z
UID:110596-1776274200-1776277800@stepaustralia.com
SUMMARY:STEP NSW Evening Seminar | Wednesday 15 April 2026
DESCRIPTION:STEP NSW Evening Seminar | Wednesday 15 April 2026\nSTEP NSW Branch invites you to a seminar with The Honourable Philip Hallen SC\, P. Hallen SC Mediation. \nTopic: Considerations for the preparation for mediations and hearings \nDATE: Wednesday 15 April 2026 \nTIME: 5:30 pm – 6:30 pm \nCOST: $75 STEP Members\, $120 Non-Members \nVENUE: Court 13A\, Supreme Court of NSW\, 184 Phillip St\, Sydney OR Online via Webinar \nFor further information or assistance\, please contact stepnswaustralia@step.org \nREGISTER HERE
URL:https://stepaustralia.com/events/step-nsw-evening-seminar-wednesday-15-april-2026/
LOCATION:Court 13A\, Supreme Court of New South Wales\, 184 Phillip St\, Sydney\, NSW\, 2000
CATEGORIES:Live Stream,Seminar,STEP New South Wales,Webinar
END:VEVENT
BEGIN:VEVENT
DTSTART;TZID=UTC:20260409T123000
DTEND;TZID=UTC:20260409T133000
DTSTAMP:20260424T153235
CREATED:20260329T233146Z
LAST-MODIFIED:20260329T233146Z
UID:110640-1775737800-1775741400@stepaustralia.com
SUMMARY:STEP NSW Lunch and Learn | Thursday 9 April 2026
DESCRIPTION:STEP NSW Lunch and Learn | Thursday 9 April 2026\nSTEP NSW Branch invites you to a Lunch & Learn Seminar with Therese Catanzariti TEP\, Barrister\, 13 Wentworth. \nTopic: Till Death Do Us Part(nership) – Partnerships\, Succession Planning and Estate Administration \nHistorically\, partnerships were often used for small to medium sized business ventures. Over time\, business ventures and tax planning have become more sophisticated\, the risk of joint liability too risky\, and professional rules relating to accountants\, lawyers and other professionals have been relaxed\, so business ventures often operate through companies and trusts.  However\, estate practitioners may still need to deal with lingering partnerships in estate administration\, and need to understand the principles of partnership law and in particular what happens on the dissolution of the partnership. \nDATE: Thursday 9 April 2026 \nTIME: 12:30 pm – 1:30 pm AEST \nCOST: $45 STEP Members\, $90 Non-Members \nThis is an online only event. \nFor further information or assistance\, please contact stepnswaustralia@step.org \nREGISTER HERE
URL:https://stepaustralia.com/events/step-nsw-lunch-and-learn-thursday-9-april-2026/
LOCATION:Online Event
CATEGORIES:Live Stream,Lunch and Learn,Lunchtime,Seminar,STEP New South Wales,Webinar
END:VEVENT
END:VCALENDAR