BEGIN:VCALENDAR
VERSION:2.0
PRODID:-//STEP Australia - ECPv6.15.20//NONSGML v1.0//EN
CALSCALE:GREGORIAN
METHOD:PUBLISH
X-ORIGINAL-URL:https://stepaustralia.com
X-WR-CALDESC:Events for STEP Australia
REFRESH-INTERVAL;VALUE=DURATION:PT1H
X-Robots-Tag:noindex
X-PUBLISHED-TTL:PT1H
BEGIN:VTIMEZONE
TZID:UTC
BEGIN:STANDARD
TZOFFSETFROM:+0000
TZOFFSETTO:+0000
TZNAME:UTC
DTSTART:20250101T000000
END:STANDARD
END:VTIMEZONE
BEGIN:VEVENT
DTSTART;TZID=UTC:20260423T173000
DTEND;TZID=UTC:20260423T183000
DTSTAMP:20260424T153214
CREATED:20260402T012649Z
LAST-MODIFIED:20260402T012649Z
UID:110644-1776965400-1776969000@stepaustralia.com
SUMMARY:STEP Victoria-Tasmania Seminar | Thursday 23 April 2026
DESCRIPTION:STEP Victoria-Tasmania Seminar | Thursday 23 April 2026\nSTEP Victoria – Tasmania Branch invites you to a seminar with Louise Bitti\, Director\, Aged Care Steps.  \nTopic: Aged Care after 1 November 2025 and what the landscape looks like now  \nThe new Aged Care Act introduced significant reforms to the aged care system – including new fee structures\, new calculations and new terminology. With these changes comes increased complexity and higher fees for clients navigating care decisions. And the changes have not been smooth sailing. \nThis session provides a clear overview of: \n\nThe key changes affecting Support at Home and residential aged care\nWho is grandfathered and who is not\nKey legal and financial challenges for older Australians accessing aged care\nEmerging trends and common pitfalls.\n\n  \nDATE: Thursday 23 April 2026 \nTIME: 5:30pm – 6:30pm \nCOST: STEP Members $50 | Non-Members $110 \n  \nThis seminar will be presented online via webinar. \nFor further information or assistance\, please contact step.victoria-Tasmania@step.org  \n  \nREGISTER HERE
URL:https://stepaustralia.com/events/step-victoria-tasmania-seminar-thursday-23-april-2026/
LOCATION:Online Event
CATEGORIES:Live Stream,Seminar,STEP Tasmania,STEP Victoria,Webinar
END:VEVENT
BEGIN:VEVENT
DTSTART;TZID=UTC:20260326T130000
DTEND;TZID=UTC:20260326T140000
DTSTAMP:20260424T153214
CREATED:20260312T054421Z
LAST-MODIFIED:20260312T054421Z
UID:110563-1774530000-1774533600@stepaustralia.com
SUMMARY:STEP Victoria-Tasmania Seminar | Thursday 26 March 2026
DESCRIPTION:STEP Victoria-Tasmania Seminar | Thursday 26 March 2026\nSTEP Victoria – Tasmania Branch invites you to a seminar with Aron Cranenburgh\, AML Compliance and Risk Adviser\, Law Institute of Victoria.  \nTopic: Assessments regarding capacity – Trusts\, Estates and AML  \nThis session will include: \n\nWhat is Tranche 2 of the AML/CTF regulations and why now?\nWhere trust and estate practitioners are likely to be captured\nWhat services are not captured\nWhat is risk-based compliance in AML?\nCase studies and known risk factors\nPractical AML/CTF controls and considerations\nWhere to go for further information/support\n \n\nDATE: Thursday 26 March 2026 \nTIME: 1:00pm – 2:00pm AEDT \nCOST: STEP Members $50 | Non-Members $110 \n  \nThis seminar will be presented online via webinar. \nFor further information or assistance\, please contact step.victoria-Tasmania@step.org  \n  \nREGISTER HERE
URL:https://stepaustralia.com/events/step-victoria-tasmania-seminar-thursday-26-march-2026/
LOCATION:Online Event
CATEGORIES:Live Stream,Lunch and Learn,Lunchtime,Seminar,STEP Tasmania,STEP Victoria,Webinar
END:VEVENT
END:VCALENDAR